BEGIN:VCALENDAR
VERSION:2.0
PRODID:calendify.com
BEGIN:VEVENT
UID:calendify-session-yomMJQ88ODb
DTSTART:20231227T110000Z
SEQUENCE:0
TRANSP:OPAQUE
DTEND:20231227T120000Z
URL:https://calendify.com/session/yomMJQ88ODb
LOCATION:Saal E
SUMMARY:Greg Egan's „Orthogonal“: A universe without timelike dimension
 s
CLASS:PUBLIC
DESCRIPTION:https://calendify.com/session/yomMJQ88ODb
DTSTAMP:20260423T182116Z
CREATED:20231226T081002Z
LAST-MODIFIED:20240401T142932Z
END:VEVENT
END:VCALENDAR