BEGIN:VCALENDAR
VERSION:2.0
PRODID:calendify.com
BEGIN:VEVENT
UID:calendify-session-yomMJQDLODb
DTSTART:20231229T190000Z
SEQUENCE:0
TRANSP:OPAQUE
DTEND:20231229T203000Z
URL:https://calendify.com/session/yomMJQDLODb
LOCATION:Sendezentrum Podcast Table (X12)
SUMMARY:Offene Werkstätten und Freiräume - best practice und lessons lear
 ned
CLASS:PUBLIC
DESCRIPTION:https://calendify.com/session/yomMJQDLODb
DTSTAMP:20260420T174256Z
CREATED:20231224T230004Z
LAST-MODIFIED:20240401T142933Z
END:VEVENT
END:VCALENDAR