BEGIN:VCALENDAR
VERSION:2.0
PRODID:calendify.com
BEGIN:VEVENT
UID:calendify-session-yomMJQN0ODb
DTSTART:20231229T233000Z
SEQUENCE:0
TRANSP:OPAQUE
DTEND:20231230T003000Z
URL:https://calendify.com/session/yomMJQN0ODb
LOCATION:Bits & Bäume Workshop Space
SUMMARY:How to get out of any git situation with these 3 commands
CLASS:PUBLIC
DESCRIPTION:https://calendify.com/session/yomMJQN0ODb
DTSTAMP:20260423T015609Z
CREATED:20231229T214003Z
LAST-MODIFIED:20240401T142932Z
END:VEVENT
END:VCALENDAR