BEGIN:VCALENDAR
VERSION:2.0
PRODID:calendify.com
BEGIN:VEVENT
UID:calendify-session-yomMJQVlODb
DTSTART:20240331T113000Z
SEQUENCE:0
TRANSP:OPAQUE
DTEND:20240331T123000Z
URL:https://calendify.com/session/yomMJQVlODb
LOCATION:Walhacka - D002
SUMMARY:Vom Prototyp zur BNetzA – Neugestaltung AFu-Ausbildung
CLASS:PUBLIC
DESCRIPTION:https://calendify.com/session/yomMJQVlODb
DTSTAMP:20260423T162633Z
CREATED:20240328T125152Z
LAST-MODIFIED:20240401T142841Z
END:VEVENT
END:VCALENDAR