BEGIN:VCALENDAR
VERSION:2.0
PRODID:calendify.com
BEGIN:VEVENT
UID:calendify-session-yomMJQZeODb
DTSTART:20231227T170000Z
SEQUENCE:0
TRANSP:OPAQUE
DTEND:20231227T180000Z
URL:https://calendify.com/session/yomMJQZeODb
LOCATION:Bits & Bäume Community Space
SUMMARY:Bits & Bäume Community Treffen Tag 1
CLASS:PUBLIC
DESCRIPTION:https://calendify.com/session/yomMJQZeODb
DTSTAMP:20260423T030552Z
CREATED:20231223T100103Z
LAST-MODIFIED:20240401T142932Z
END:VEVENT
END:VCALENDAR