BEGIN:VCALENDAR
VERSION:2.0
PRODID:calendify.com
BEGIN:VEVENT
UID:calendify-session-yomMJQnlODb
DTSTART:20240329T181500Z
SEQUENCE:0
TRANSP:OPAQUE
DTEND:20240329T201500Z
URL:https://calendify.com/session/yomMJQnlODb
LOCATION:Adas Roothaus - K017
SUMMARY:A Short intro into Autodesk Fusion
CLASS:PUBLIC
DESCRIPTION:https://calendify.com/session/yomMJQnlODb
DTSTAMP:20260421T165015Z
CREATED:20240328T125150Z
LAST-MODIFIED:20240401T142841Z
END:VEVENT
END:VCALENDAR