BEGIN:VCALENDAR
VERSION:2.0
PRODID:calendify.com
BEGIN:VEVENT
UID:calendify-session-yomMJQrLODb
DTSTART:20230610T080000Z
SEQUENCE:0
TRANSP:OPAQUE
DTEND:20230610T090000Z
URL:https://calendify.com/session/yomMJQrLODb
LOCATION:Blauer Salon
SUMMARY:Instrument to Remove: Using Java agents for fun and profit
CLASS:PUBLIC
DESCRIPTION:https://calendify.com/session/yomMJQrLODb
DTSTAMP:20260424T082614Z
CREATED:20230610T134002Z
LAST-MODIFIED:20230611T215002Z
END:VEVENT
END:VCALENDAR