BEGIN:VCALENDAR
VERSION:2.0
PRODID:calendify.com
BEGIN:VEVENT
UID:calendify-session-yomMJQv8ODb
DTSTART:20231228T190000Z
SEQUENCE:0
TRANSP:OPAQUE
DTEND:20231228T200000Z
URL:https://calendify.com/session/yomMJQv8ODb
LOCATION:FOSS-HW Workshop Area [CDC Saal 3]
SUMMARY:Pocket Science Lab Hands-on (Alex Bessman\, Marco A. Gutierrez)
CLASS:PUBLIC
DESCRIPTION:https://calendify.com/session/yomMJQv8ODb
DTSTAMP:20260421T050703Z
CREATED:20231226T164002Z
LAST-MODIFIED:20240401T142932Z
END:VEVENT
END:VCALENDAR