BEGIN:VCALENDAR
VERSION:2.0
PRODID:calendify.com
BEGIN:VEVENT
UID:calendify-session-yomMJj60MDb
DTSTART:20210206T151500Z
SEQUENCE:0
TRANSP:OPAQUE
DTEND:20210206T154000Z
URL:https://calendify.com/session/yomMJj60MDb
LOCATION:D.hardware.trusted
SUMMARY:Trusted RV: 64bit RISC-V TEE with Secure CoProcessor as Root of Tru
 st
CLASS:PUBLIC
DESCRIPTION:https://calendify.com/session/yomMJj60MDb
DTSTAMP:20260419T211429Z
CREATED:20210111T170318Z
LAST-MODIFIED:20210208T224802Z
END:VEVENT
END:VCALENDAR