BEGIN:VCALENDAR
VERSION:2.0
PRODID:calendify.com
BEGIN:VEVENT
UID:calendify-session-yomMJj7lMDb
DTSTART:20210206T102500Z
SEQUENCE:0
TRANSP:OPAQUE
DTEND:20210206T103500Z
URL:https://calendify.com/session/yomMJj7lMDb
LOCATION:D.research
SUMMARY:Gazouilloire: a command line tool for long-term tweets collection
CLASS:PUBLIC
DESCRIPTION:https://calendify.com/session/yomMJj7lMDb
DTSTAMP:20260421T075841Z
CREATED:20210111T170319Z
LAST-MODIFIED:20210208T224802Z
END:VEVENT
END:VCALENDAR