BEGIN:VCALENDAR
VERSION:2.0
PRODID:calendify.com
BEGIN:VEVENT
UID:calendify-session-yomMJjK8MDb
DTSTART:20210207T160000Z
SEQUENCE:0
TRANSP:OPAQUE
DTEND:20210207T164500Z
URL:https://calendify.com/session/yomMJjK8MDb
LOCATION:D.firmware
SUMMARY:Using OpenSPDM in Firmware as a Foundation for Secure Device Commun
 ication
CLASS:PUBLIC
DESCRIPTION:https://calendify.com/session/yomMJjK8MDb
DTSTAMP:20260423T110800Z
CREATED:20210201T190824Z
LAST-MODIFIED:20210208T224804Z
END:VEVENT
END:VCALENDAR