BEGIN:VCALENDAR
VERSION:2.0
PRODID:calendify.com
BEGIN:VEVENT
UID:calendify-session-yomMJjZeMDb
DTSTART:20210206T161500Z
SEQUENCE:0
TRANSP:OPAQUE
DTEND:20210206T170000Z
URL:https://calendify.com/session/yomMJjZeMDb
LOCATION:M.misc
SUMMARY:Watch the Asciinema Replay of Your Home-Made Honeypot
CLASS:PUBLIC
DESCRIPTION:https://calendify.com/session/yomMJjZeMDb
DTSTAMP:20260419T211321Z
CREATED:20210114T155442Z
LAST-MODIFIED:20210208T224802Z
END:VEVENT
END:VCALENDAR