BEGIN:VCALENDAR
VERSION:2.0
PRODID:calendify.com
BEGIN:VEVENT
UID:calendify-session-yomMJjmEMDb
DTSTART:20210207T141000Z
SEQUENCE:0
TRANSP:OPAQUE
DTEND:20210207T143500Z
URL:https://calendify.com/session/yomMJjmEMDb
LOCATION:D.containers
SUMMARY:By The Power of toolbox!
CLASS:PUBLIC
DESCRIPTION:https://calendify.com/session/yomMJjmEMDb
DTSTAMP:20260425T140806Z
CREATED:20210111T170319Z
LAST-MODIFIED:20210208T224804Z
END:VEVENT
END:VCALENDAR