BEGIN:VCALENDAR
VERSION:2.0
PRODID:calendify.com
BEGIN:VEVENT
UID:calendify-session-yomMJjxqMDb
DTSTART:20210207T150000Z
SEQUENCE:0
TRANSP:OPAQUE
DTEND:20210207T160000Z
URL:https://calendify.com/session/yomMJjxqMDb
LOCATION:S.mautic
SUMMARY:Prateek Jain and Mohit Aghera - Building Personalised Chatbots With
  Mautic
CLASS:PUBLIC
DESCRIPTION:https://calendify.com/session/yomMJjxqMDb
DTSTAMP:20260423T191648Z
CREATED:20210205T144804Z
LAST-MODIFIED:20210208T224804Z
END:VEVENT
END:VCALENDAR