BEGIN:VCALENDAR
VERSION:2.0
PRODID:calendify.com
BEGIN:VEVENT
UID:calendify-session-yomMJkPlgDb
DTSTART:20191228T195000Z
SEQUENCE:0
TRANSP:OPAQUE
DTEND:20191228T205000Z
URL:https://calendify.com/session/yomMJkPlgDb
LOCATION:Eliza
SUMMARY:Algorithm | Diversion
CLASS:PUBLIC
DESCRIPTION:https://calendify.com/session/yomMJkPlgDb
DTSTAMP:20260423T191442Z
CREATED:20200429T014102Z
LAST-MODIFIED:20200429T014102Z
END:VEVENT
END:VCALENDAR