BEGIN:VCALENDAR
VERSION:2.0
PRODID:calendify.com
BEGIN:VEVENT
UID:calendify-session-yomMJm68ODb
DTSTART:20241229T110000Z
SEQUENCE:0
TRANSP:OPAQUE
DTEND:20241229T114000Z
URL:https://calendify.com/session/yomMJm68ODb
LOCATION:Saal 1
SUMMARY:Robot Uprising: a story-driven AI robotics experience
CLASS:PUBLIC
DESCRIPTION:https://calendify.com/session/yomMJm68ODb
DTSTAMP:20260423T084813Z
CREATED:20241208T214808Z
LAST-MODIFIED:20251019T194651Z
END:VEVENT
END:VCALENDAR