BEGIN:VCALENDAR
VERSION:2.0
PRODID:calendify.com
BEGIN:VEVENT
UID:calendify-session-yomMJmL0ODb
DTSTART:20240921T184500Z
SEQUENCE:0
TRANSP:OPAQUE
DTEND:20240921T201500Z
URL:https://calendify.com/session/yomMJmL0ODb
LOCATION:Henny Brenner Saal
SUMMARY:Live Podcast: Dicke Bretter
CLASS:PUBLIC
DESCRIPTION:https://calendify.com/session/yomMJmL0ODb
DTSTAMP:20260420T215323Z
CREATED:20241208T220338Z
LAST-MODIFIED:20241208T220338Z
END:VEVENT
END:VCALENDAR