BEGIN:VCALENDAR
VERSION:2.0
PRODID:calendify.com
BEGIN:VEVENT
UID:calendify-session-yomMJmLlODb
DTSTART:20240921T141500Z
SEQUENCE:0
TRANSP:OPAQUE
DTEND:20240921T153000Z
URL:https://calendify.com/session/yomMJmLlODb
LOCATION:Kleiner Saal
SUMMARY:The struggles in Palestine
CLASS:PUBLIC
DESCRIPTION:https://calendify.com/session/yomMJmLlODb
DTSTAMP:20260420T215322Z
CREATED:20241208T220338Z
LAST-MODIFIED:20241208T220338Z
END:VEVENT
END:VCALENDAR