BEGIN:VCALENDAR
VERSION:2.0
PRODID:calendify.com
BEGIN:VEVENT
UID:calendify-session-zEZOl05yOXK
DTSTART:20210206T150000Z
SEQUENCE:0
TRANSP:OPAQUE
DTEND:20210206T160000Z
URL:https://calendify.com/session/zEZOl05yOXK
LOCATION:D.safety
SUMMARY:Community Discussion: Safety and Open Source
CLASS:PUBLIC
DESCRIPTION:https://calendify.com/session/zEZOl05yOXK
DTSTAMP:20260421T233912Z
CREATED:20210114T155442Z
LAST-MODIFIED:20210208T224803Z
END:VEVENT
END:VCALENDAR