BEGIN:VCALENDAR
VERSION:2.0
PRODID:calendify.com
BEGIN:VEVENT
UID:calendify-session-zEZOl0Q7OXK
DTSTART:20210207T133000Z
SEQUENCE:0
TRANSP:OPAQUE
DTEND:20210207T140000Z
URL:https://calendify.com/session/zEZOl0Q7OXK
LOCATION:S.ntop
SUMMARY:ntopng Flexible Alerts: Endpoints and Recipients
CLASS:PUBLIC
DESCRIPTION:https://calendify.com/session/zEZOl0Q7OXK
DTSTAMP:20260419T230027Z
CREATED:20210203T140304Z
LAST-MODIFIED:20210208T224804Z
END:VEVENT
END:VCALENDAR