BEGIN:VCALENDAR
VERSION:2.0
PRODID:calendify.com
BEGIN:VEVENT
UID:calendify-session-zEZOl0Y3OXK
DTSTART:20210206T090000Z
SEQUENCE:0
TRANSP:OPAQUE
DTEND:20210206T090500Z
URL:https://calendify.com/session/zEZOl0Y3OXK
LOCATION:D.hardware.trusted
SUMMARY:Opening
CLASS:PUBLIC
DESCRIPTION:https://calendify.com/session/zEZOl0Y3OXK
DTSTAMP:20260425T222202Z
CREATED:20210201T190823Z
LAST-MODIFIED:20210208T224802Z
END:VEVENT
END:VCALENDAR