BEGIN:VCALENDAR
VERSION:2.0
PRODID:calendify.com
BEGIN:VEVENT
UID:calendify-session-zEZOl0eZOXK
DTSTART:20210206T102000Z
SEQUENCE:0
TRANSP:OPAQUE
DTEND:20210206T110000Z
URL:https://calendify.com/session/zEZOl0eZOXK
LOCATION:D.openjdk
SUMMARY:DeepNetts: Deep Learning IDE
CLASS:PUBLIC
DESCRIPTION:https://calendify.com/session/zEZOl0eZOXK
DTSTAMP:20260424T003121Z
CREATED:20210111T170318Z
LAST-MODIFIED:20210208T224802Z
END:VEVENT
END:VCALENDAR