BEGIN:VCALENDAR
VERSION:2.0
PRODID:calendify.com
BEGIN:VEVENT
UID:calendify-session-zEZOl0k8OXK
DTSTART:20210206T133000Z
SEQUENCE:0
TRANSP:OPAQUE
DTEND:20210206T140000Z
URL:https://calendify.com/session/zEZOl0k8OXK
LOCATION:D.sds
SUMMARY:What’s next after CSI? An introduction to Object Storage for Kube
 rnetes
CLASS:PUBLIC
DESCRIPTION:https://calendify.com/session/zEZOl0k8OXK
DTSTAMP:20260422T204606Z
CREATED:20210111T170319Z
LAST-MODIFIED:20210208T224803Z
END:VEVENT
END:VCALENDAR