BEGIN:VCALENDAR
VERSION:2.0
PRODID:calendify.com
BEGIN:VEVENT
UID:calendify-session-zEZOl0l8OXK
DTSTART:20210207T154000Z
SEQUENCE:0
TRANSP:OPAQUE
DTEND:20210207T162500Z
URL:https://calendify.com/session/zEZOl0l8OXK
LOCATION:D.cicd
SUMMARY:Configure Once\, Run Everywhere
CLASS:PUBLIC
DESCRIPTION:https://calendify.com/session/zEZOl0l8OXK
DTSTAMP:20260424T041609Z
CREATED:20210111T170319Z
LAST-MODIFIED:20210208T224803Z
END:VEVENT
END:VCALENDAR