BEGIN:VCALENDAR
VERSION:2.0
PRODID:calendify.com
BEGIN:VEVENT
UID:calendify-session-zEZOl0o3OXK
DTSTART:20210206T083000Z
SEQUENCE:0
TRANSP:OPAQUE
DTEND:20210206T090000Z
URL:https://calendify.com/session/zEZOl0o3OXK
LOCATION:S.refpersys
SUMMARY:Welcome to the stand for RefPerSys
CLASS:PUBLIC
DESCRIPTION:https://calendify.com/session/zEZOl0o3OXK
DTSTAMP:20260424T040054Z
CREATED:20210125T190821Z
LAST-MODIFIED:20210208T224803Z
END:VEVENT
END:VCALENDAR