BEGIN:VCALENDAR
VERSION:2.0
PRODID:calendify.com
BEGIN:VEVENT
UID:calendify-session-zEZOl7z74XK
DTSTART:20201228T193000Z
SEQUENCE:0
TRANSP:OPAQUE
DTEND:20201228T203000Z
URL:https://calendify.com/session/zEZOl7z74XK
LOCATION:rC2
SUMMARY:Das Assange-Auslieferungsverfahren 
CLASS:PUBLIC
DESCRIPTION:https://calendify.com/session/zEZOl7z74XK
DTSTAMP:20260422T054432Z
CREATED:20201221T231541Z
LAST-MODIFIED:20210114T154804Z
END:VEVENT
END:VCALENDAR