BEGIN:VCALENDAR
VERSION:2.0
PRODID:calendify.com
BEGIN:VEVENT
UID:calendify-session-zEZOlRK7gXK
DTSTART:20220520T153000Z
SEQUENCE:0
TRANSP:OPAQUE
DTEND:20220520T163000Z
URL:https://calendify.com/session/zEZOlRK7gXK
LOCATION:Vortragssaal
SUMMARY:Elektrische Sicherheit für Hacker
CLASS:PUBLIC
DESCRIPTION:https://calendify.com/session/zEZOlRK7gXK
DTSTAMP:20260420T095848Z
CREATED:20220502T005752Z
LAST-MODIFIED:20220521T215002Z
END:VEVENT
END:VCALENDAR