BEGIN:VCALENDAR
VERSION:2.0
PRODID:calendify.com
BEGIN:VEVENT
UID:calendify-session-zEZOlRW7gXK
DTSTART:20151230T114500Z
SEQUENCE:0
TRANSP:OPAQUE
DTEND:20151230T140000Z
URL:https://calendify.com/session/zEZOlRW7gXK
LOCATION:Hall G
SUMMARY:Lightning Talks Day 4
CLASS:PUBLIC
DESCRIPTION:https://calendify.com/session/zEZOlRW7gXK
DTSTAMP:20260423T223527Z
CREATED:20220415T142918Z
LAST-MODIFIED:20220415T142918Z
END:VEVENT
END:VCALENDAR