BEGIN:VCALENDAR
VERSION:2.0
PRODID:calendify.com
BEGIN:VEVENT
UID:calendify-session-zEZOlRlogXK
DTSTART:20161229T201500Z
SEQUENCE:0
TRANSP:OPAQUE
DTEND:20161229T204500Z
URL:https://calendify.com/session/zEZOlRlogXK
LOCATION:Saal 1
SUMMARY:Interplanetary Colonization
CLASS:PUBLIC
DESCRIPTION:https://calendify.com/session/zEZOlRlogXK
DTSTAMP:20260423T140708Z
CREATED:20220415T135303Z
LAST-MODIFIED:20220415T135303Z
END:VEVENT
END:VCALENDAR