BEGIN:VCALENDAR
VERSION:2.0
PRODID:calendify.com
BEGIN:VEVENT
UID:calendify-session-zEZOlRokgXK
DTSTART:20220609T161500Z
SEQUENCE:0
TRANSP:OPAQUE
DTEND:20220609T190000Z
URL:https://calendify.com/session/zEZOlRokgXK
LOCATION:Workshop J
SUMMARY:Das Urbane Digitop
CLASS:PUBLIC
DESCRIPTION:https://calendify.com/session/zEZOlRokgXK
DTSTAMP:20260420T153620Z
CREATED:20220526T162945Z
LAST-MODIFIED:20220613T235204Z
END:VEVENT
END:VCALENDAR