BEGIN:VCALENDAR
VERSION:2.0
PRODID:calendify.com
BEGIN:VEVENT
UID:calendify-session-zEZOlRxkgXK
DTSTART:20220206T100000Z
SEQUENCE:0
TRANSP:OPAQUE
DTEND:20220206T102500Z
URL:https://calendify.com/session/zEZOlRxkgXK
LOCATION:D.public-code
SUMMARY:Developers Italia\, four years later
CLASS:PUBLIC
DESCRIPTION:https://calendify.com/session/zEZOlRxkgXK
DTSTAMP:20260422T112444Z
CREATED:20220120T214609Z
LAST-MODIFIED:20220206T225004Z
END:VEVENT
END:VCALENDAR