BEGIN:VCALENDAR
VERSION:2.0
PRODID:calendify.com
BEGIN:VEVENT
UID:calendify-session-zEZOle03MXK
DTSTART:20210315T181500Z
SEQUENCE:0
TRANSP:OPAQUE
DTEND:20210315T194500Z
URL:https://calendify.com/session/zEZOle03MXK
LOCATION:Zoom Room 2B
SUMMARY:Making AI Matter Hands-On Workshop | Help Us Solve Global Health\, 
 Climate Change\, and Education Access
CLASS:PUBLIC
DESCRIPTION:https://calendify.com/session/zEZOle03MXK
DTSTAMP:20260422T124117Z
CREATED:20210426T094928Z
LAST-MODIFIED:20210426T094928Z
END:VEVENT
END:VCALENDAR