BEGIN:VCALENDAR
VERSION:2.0
PRODID:calendify.com
BEGIN:VEVENT
UID:calendify-session-zEZOle7oMXK
DTSTART:20210313T181500Z
SEQUENCE:0
TRANSP:OPAQUE
DTEND:20210313T191500Z
URL:https://calendify.com/session/zEZOle7oMXK
LOCATION:Zoom Room 1A
SUMMARY:Imagining and dreaming new ways of working
CLASS:PUBLIC
DESCRIPTION:https://calendify.com/session/zEZOle7oMXK
DTSTAMP:20260422T191654Z
CREATED:20210426T094928Z
LAST-MODIFIED:20210426T094928Z
END:VEVENT
END:VCALENDAR