BEGIN:VCALENDAR
VERSION:2.0
PRODID:calendify.com
BEGIN:VEVENT
UID:calendify-session-zEZOleJZMXK
DTSTART:20220206T144500Z
SEQUENCE:0
TRANSP:OPAQUE
DTEND:20220206T152500Z
URL:https://calendify.com/session/zEZOleJZMXK
LOCATION:D.minimalistic
SUMMARY:Spritely Goblins comes to Guile
CLASS:PUBLIC
DESCRIPTION:https://calendify.com/session/zEZOleJZMXK
DTSTAMP:20260420T081708Z
CREATED:20220120T214606Z
LAST-MODIFIED:20220206T225003Z
END:VEVENT
END:VCALENDAR