BEGIN:VCALENDAR
VERSION:2.0
PRODID:calendify.com
BEGIN:VEVENT
UID:calendify-session-zEZOleLZMXK
DTSTART:20210522T125000Z
SEQUENCE:0
TRANSP:OPAQUE
DTEND:20210522T132000Z
URL:https://calendify.com/session/zEZOleLZMXK
LOCATION:Kanal 1
SUMMARY:Technik\, Recht und Soziale Transformation: Wie die Plattform-Ökon
 omie unser Leben beeinflusst
CLASS:PUBLIC
DESCRIPTION:https://calendify.com/session/zEZOleLZMXK
DTSTAMP:20260423T004658Z
CREATED:20210511T185144Z
LAST-MODIFIED:20210524T215002Z
END:VEVENT
END:VCALENDAR