BEGIN:VCALENDAR
VERSION:2.0
PRODID:calendify.com
BEGIN:VEVENT
UID:calendify-session-zEZOleryMXK
DTSTART:20211227T223000Z
SEQUENCE:0
TRANSP:OPAQUE
DTEND:20211228T022100Z
URL:https://calendify.com/session/zEZOleryMXK
LOCATION:Abchillgleis
SUMMARY:DJ SDFKT
CLASS:PUBLIC
DESCRIPTION:https://calendify.com/session/zEZOleryMXK
DTSTAMP:20260424T035739Z
CREATED:20211226T205000Z
LAST-MODIFIED:20211230T225002Z
END:VEVENT
END:VCALENDAR