BEGIN:VCALENDAR
VERSION:2.0
PRODID:calendify.com
BEGIN:VEVENT
UID:calendify-session-zEZOleyZMXK
DTSTART:20210522T140000Z
SEQUENCE:0
TRANSP:OPAQUE
DTEND:20210522T142000Z
URL:https://calendify.com/session/zEZOleyZMXK
LOCATION:TINCON
SUMMARY:Warum wir nicht digital wählen
CLASS:PUBLIC
DESCRIPTION:https://calendify.com/session/zEZOleyZMXK
DTSTAMP:20260423T044000Z
CREATED:20210510T145032Z
LAST-MODIFIED:20210524T215002Z
END:VEVENT
END:VCALENDAR