BEGIN:VCALENDAR
VERSION:2.0
PRODID:calendify.com
BEGIN:VEVENT
UID:calendify-session-zEZOlkpy4XK
DTSTART:20230606T114500Z
SEQUENCE:0
TRANSP:OPAQUE
DTEND:20230606T121500Z
URL:https://calendify.com/session/zEZOlkpy4XK
LOCATION:Stage 3
SUMMARY:Die Zukunft des Filmemachens - ein Blick hinter die Virtual Product
 ion-Kulissen
CLASS:PUBLIC
DESCRIPTION:https://calendify.com/session/zEZOlkpy4XK
DTSTAMP:20260422T070058Z
CREATED:20230604T163809Z
LAST-MODIFIED:20230606T124212Z
END:VEVENT
END:VCALENDAR