BEGIN:VCALENDAR
VERSION:2.0
PRODID:calendify.com
BEGIN:VEVENT
UID:calendify-session-zEZOllG5OXK
DTSTART:20240602T103000Z
SEQUENCE:0
TRANSP:OPAQUE
DTEND:20240602T113000Z
URL:https://calendify.com/session/zEZOllG5OXK
LOCATION:ZKM Vortragssaal
SUMMARY:1x1 der medizinischen Bildgebung
CLASS:PUBLIC
DESCRIPTION:https://calendify.com/session/zEZOllG5OXK
DTSTAMP:20260422T102353Z
CREATED:20240531T122740Z
LAST-MODIFIED:20240602T132303Z
END:VEVENT
END:VCALENDAR