BEGIN:VCALENDAR
VERSION:2.0
PRODID:calendify.com
BEGIN:VEVENT
UID:calendify-session-zEZOllVZOXK
DTSTART:20240331T190000Z
SEQUENCE:0
TRANSP:OPAQUE
DTEND:20240331T200000Z
URL:https://calendify.com/session/zEZOllVZOXK
LOCATION:Bitmarckplatz - D003
SUMMARY:Die Hackbibel 3 - ein Kammerspiel
CLASS:PUBLIC
DESCRIPTION:https://calendify.com/session/zEZOllVZOXK
DTSTAMP:20260424T003638Z
CREATED:20240328T125152Z
LAST-MODIFIED:20240401T142841Z
END:VEVENT
END:VCALENDAR