BEGIN:VCALENDAR
VERSION:2.0
PRODID:calendify.com
BEGIN:VEVENT
UID:calendify-session-zEZOllZbOXK
DTSTART:20231229T140000Z
SEQUENCE:0
TRANSP:OPAQUE
DTEND:20231229T150000Z
URL:https://calendify.com/session/zEZOllZbOXK
LOCATION:Round Table [CDC Saal 3]
SUMMARY:Mobile phone privacy with silent.link S1E03 (Workshop)
CLASS:PUBLIC
DESCRIPTION:https://calendify.com/session/zEZOllZbOXK
DTSTAMP:20260423T031012Z
CREATED:20231228T212002Z
LAST-MODIFIED:20240401T142933Z
END:VEVENT
END:VCALENDAR