BEGIN:VCALENDAR
VERSION:2.0
PRODID:calendify.com
BEGIN:VEVENT
UID:calendify-session-zEZOllj8OXK
DTSTART:20230902T070000Z
SEQUENCE:0
TRANSP:OPAQUE
DTEND:20230902T075000Z
URL:https://calendify.com/session/zEZOllj8OXK
LOCATION:C120 - Arkanraum
SUMMARY:Geschichten aus der COBOL-Gruft - hierarchische Datenbanken
CLASS:PUBLIC
DESCRIPTION:https://calendify.com/session/zEZOllj8OXK
DTSTAMP:20260422T183825Z
CREATED:20240328T132702Z
LAST-MODIFIED:20240328T132702Z
END:VEVENT
END:VCALENDAR