BEGIN:VCALENDAR
VERSION:2.0
PRODID:calendify.com
BEGIN:VEVENT
UID:calendify-session-zEZOllo3OXK
DTSTART:20231228T133000Z
SEQUENCE:0
TRANSP:OPAQUE
DTEND:20231228T140000Z
URL:https://calendify.com/session/zEZOllo3OXK
LOCATION:Stage H
SUMMARY:Bitcoin Wallet Seed Security
CLASS:PUBLIC
DESCRIPTION:https://calendify.com/session/zEZOllo3OXK
DTSTAMP:20260423T055811Z
CREATED:20231226T191002Z
LAST-MODIFIED:20240401T142932Z
END:VEVENT
END:VCALENDAR