BEGIN:VCALENDAR
VERSION:2.0
PRODID:calendify.com
BEGIN:VEVENT
UID:calendify-session-zEZOllvmOXK
DTSTART:20231228T120000Z
SEQUENCE:0
TRANSP:OPAQUE
DTEND:20231228T143000Z
URL:https://calendify.com/session/zEZOllvmOXK
LOCATION:Chaoswelle
SUMMARY:POTA – Parks on the Air [Day 2]
CLASS:PUBLIC
DESCRIPTION:https://calendify.com/session/zEZOllvmOXK
DTSTAMP:20260423T134529Z
CREATED:20231218T013833Z
LAST-MODIFIED:20240401T142932Z
END:VEVENT
END:VCALENDAR