BEGIN:VCALENDAR
VERSION:2.0
PRODID:calendify.com
BEGIN:VEVENT
UID:calendify-session-zEZOlnYkgXK
DTSTART:20200201T123000Z
SEQUENCE:0
TRANSP:OPAQUE
DTEND:20200201T124500Z
URL:https://calendify.com/session/zEZOlnYkgXK
LOCATION:AW1.126
SUMMARY:On the road to sustainable research software.
CLASS:PUBLIC
DESCRIPTION:https://calendify.com/session/zEZOlnYkgXK
DTSTAMP:20260420T154903Z
CREATED:20200513T234730Z
LAST-MODIFIED:20210426T093308Z
END:VEVENT
END:VCALENDAR