BEGIN:VCALENDAR
VERSION:2.0
PRODID:calendify.com
BEGIN:VEVENT
UID:calendify-session-zEZOlnajgXK
DTSTART:20200201T093000Z
SEQUENCE:0
TRANSP:OPAQUE
DTEND:20200201T095000Z
URL:https://calendify.com/session/zEZOlnajgXK
LOCATION:UD2.208 (Decroly)
SUMMARY:Podman - The Powerful Container Multi-Tool
CLASS:PUBLIC
DESCRIPTION:https://calendify.com/session/zEZOlnajgXK
DTSTAMP:20260424T063415Z
CREATED:20200513T234731Z
LAST-MODIFIED:20210426T093308Z
END:VEVENT
END:VCALENDAR