BEGIN:VCALENDAR
VERSION:2.0
PRODID:calendify.com
BEGIN:VEVENT
UID:calendify-session-zEZOlnz8gXK
DTSTART:20200201T105500Z
SEQUENCE:0
TRANSP:OPAQUE
DTEND:20200201T111500Z
URL:https://calendify.com/session/zEZOlnz8gXK
LOCATION:H.2213
SUMMARY:ngspice open source circuit simulator
CLASS:PUBLIC
DESCRIPTION:https://calendify.com/session/zEZOlnz8gXK
DTSTAMP:20260420T034730Z
CREATED:20200513T234730Z
LAST-MODIFIED:20210426T093308Z
END:VEVENT
END:VCALENDAR