BEGIN:VCALENDAR
VERSION:2.0
PRODID:calendify.com
BEGIN:VEVENT
UID:calendify-session-zX1Mk023gW5
DTSTART:20210207T143000Z
SEQUENCE:0
TRANSP:OPAQUE
DTEND:20210207T150500Z
URL:https://calendify.com/session/zX1Mk023gW5
LOCATION:D.geospatial
SUMMARY:Spatial data exploration in Jupyter notebooks
CLASS:PUBLIC
DESCRIPTION:https://calendify.com/session/zX1Mk023gW5
DTSTAMP:20260419T224159Z
CREATED:20210111T170320Z
LAST-MODIFIED:20210208T224804Z
END:VEVENT
END:VCALENDAR