BEGIN:VCALENDAR
VERSION:2.0
PRODID:calendify.com
BEGIN:VEVENT
UID:calendify-session-zX1Mk05ngW5
DTSTART:20210206T133500Z
SEQUENCE:0
TRANSP:OPAQUE
DTEND:20210206T143000Z
URL:https://calendify.com/session/zX1Mk05ngW5
LOCATION:D.blockchain
SUMMARY:What is Holochain?
CLASS:PUBLIC
DESCRIPTION:https://calendify.com/session/zX1Mk05ngW5
DTSTAMP:20260422T222356Z
CREATED:20210119T190819Z
LAST-MODIFIED:20210208T224802Z
END:VEVENT
END:VCALENDAR