BEGIN:VCALENDAR
VERSION:2.0
PRODID:calendify.com
BEGIN:VEVENT
UID:calendify-session-zX1Mk09EgW5
DTSTART:20210207T150000Z
SEQUENCE:0
TRANSP:OPAQUE
DTEND:20210207T160000Z
URL:https://calendify.com/session/zX1Mk09EgW5
LOCATION:S.ntop
SUMMARY:Round Table and Discussion
CLASS:PUBLIC
DESCRIPTION:https://calendify.com/session/zX1Mk09EgW5
DTSTAMP:20260419T164901Z
CREATED:20210203T141804Z
LAST-MODIFIED:20210208T224804Z
END:VEVENT
END:VCALENDAR